BEGIN:VCALENDAR
PRODID:-//ncm-au11387//EN
VERSION:2.0
BEGIN:VEVENT
SUMMARY:NCM Auctions: NO RESERVE Direct From The Hire Experts, End of Hire Plant &amp; Tools, Incl Pump Trucks, Transformers, Saws, Security Chests, Hand Tools and More
PRIORITY:0
CLASS:PUBLIC
DTSTART:20260421T140000Z
DTEND:20260428T120000Z
DESCRIPTION:
X-ALT-DESC;FMTTYPE=text/html:
LOCATION:  ,   , Doncaster, United Kingdom
END:VEVENT
END:VCALENDAR