BEGIN:VCALENDAR
PRODID:-//ncm-au11389//EN
VERSION:2.0
BEGIN:VEVENT
SUMMARY:NCM Auctions: Spring Garden Equipment , BBQs, Lawnmowers and Accessories – No Reserve – Massive Savings on Retail Returns from Studio Retail
PRIORITY:0
CLASS:PUBLIC
DTSTART:20260424T120000Z
DTEND:20260506T135845Z
DESCRIPTION:
X-ALT-DESC;FMTTYPE=text/html:
LOCATION: ,  ,  ,  , Doncaster,  , DN9 3RN, United Kingdom
END:VEVENT
END:VCALENDAR