BEGIN:VCALENDAR
PRODID:-//ncm-au11386//EN
VERSION:2.0
BEGIN:VEVENT
SUMMARY:NCM Auctions: Auction On Behalf Of Yorkshire Wildlife Park. Surplus Themed Winter Illuminations Lanterns, As Displayed In Their Annual Event
PRIORITY:0
CLASS:PUBLIC
DTSTART:20260424T163000Z
DTEND:20260513T120000Z
DESCRIPTION:
X-ALT-DESC;FMTTYPE=text/html:
LOCATION:., ., ., ., Doncaster, DN9, ., ., United Kingdom
END:VEVENT
END:VCALENDAR